BEGIN:VCALENDAR
VERSION:2.0
PRODID:-//Local Three - ECPv6.15.12.2//NONSGML v1.0//EN
CALSCALE:GREGORIAN
METHOD:PUBLISH
X-WR-CALNAME:Local Three
X-ORIGINAL-URL:https://localthree.com
X-WR-CALDESC:Events for Local Three
REFRESH-INTERVAL;VALUE=DURATION:PT1H
X-Robots-Tag:noindex
X-PUBLISHED-TTL:PT1H
BEGIN:VTIMEZONE
TZID:UTC
BEGIN:STANDARD
TZOFFSETFROM:+0000
TZOFFSETTO:+0000
TZNAME:UTC
DTSTART:20240101T000000
END:STANDARD
END:VTIMEZONE
BEGIN:VEVENT
DTSTART;TZID=UTC:20250105T160000
DTEND;TZID=UTC:20250105T210000
DTSTAMP:20260420T065100
CREATED:20241223T083813Z
LAST-MODIFIED:20241223T084118Z
UID:6601-1736092800-1736110800@localthree.com
SUMMARY:1/2 Priced Wine Bottles Every Sunday Night at L3
DESCRIPTION:Sunday nights just got better at Local Three! Every Sunday from 4–9 PM\, unwind with half-priced bottles of wine and make the end of your weekend something to celebrate. Whether you’re sharing a bottle with friends or family\, it’s the perfect excuse to raise a toast to good food\, great wine\, and even better company. \nCheck out Our Wine List \nMake a Reservation
URL:https://localthree.com/event/half-off-wine-bottles-jan5/
LOCATION:Local Three\, 3290 NORTHSIDE PARKWAY\, ATLANTA\, GA\, United States
ATTACH;FMTTYPE=image/png:https://localthree.com/wp-content/uploads/2024/12/12-Priced-Wine-Bottles-Website-Tile.png
END:VEVENT
END:VCALENDAR