BEGIN:VCALENDAR
VERSION:2.0
PRODID:-//Local Three - ECPv6.15.12.2//NONSGML v1.0//EN
CALSCALE:GREGORIAN
METHOD:PUBLISH
X-WR-CALNAME:Local Three
X-ORIGINAL-URL:https://localthree.com
X-WR-CALDESC:Events for Local Three
REFRESH-INTERVAL;VALUE=DURATION:PT1H
X-Robots-Tag:noindex
X-PUBLISHED-TTL:PT1H
BEGIN:VTIMEZONE
TZID:UTC
BEGIN:STANDARD
TZOFFSETFROM:+0000
TZOFFSETTO:+0000
TZNAME:UTC
DTSTART:20240101T000000
END:STANDARD
END:VTIMEZONE
BEGIN:VEVENT
DTSTART;VALUE=DATE:20250411
DTEND;VALUE=DATE:20250412
DTSTAMP:20260423T071653
CREATED:20250324T203107Z
LAST-MODIFIED:20250324T203648Z
UID:6723-1744329600-1744415999@localthree.com
SUMMARY:Passover Carryout
DESCRIPTION:PASSOVER CARRYOUT – BACK BY POPULAR DEMAND\nSome traditions just stick. And this is one of them. What started as a “who-knows-if-this-will-work” idea during the pandemic has turned into one of the most requested meals we do all year. So\, here we are. Passover Carryout is back. \nMenu \nRoasted Angus Beef Brisket with Caramelized Onion Jus \nCrushed Potatoes & Honey Roasted Carrots \nFancy Lettuce Salad with Cucumbers\, Preserved Tomatoes & Red Wine Vinaigrette \nMatzo Ball Soup \nFlourless Chocolate Cake with Spring Strawberries \nBone for the Seder Plate \nFeeds 4 | $195 \n  \nPickups \nFriday\, 4/11 (served cold with reheating instructions) \nSaturday\, 4/12 & Sunday\, 4/13 (served hot & ready) \n  \nNo stress\, no prep\, just a good meal to gather around. Preorders are live. Don’t wait. \nCLICK HERE TO PREORDER ONLINE
URL:https://localthree.com/event/passover411/
LOCATION:Local Three\, 3290 NORTHSIDE PARKWAY\, ATLANTA\, GA\, United States
ATTACH;FMTTYPE=image/png:https://localthree.com/wp-content/uploads/2025/03/Passover-Tile-2025.png
END:VEVENT
END:VCALENDAR