BEGIN:VCALENDAR
VERSION:2.0
PRODID:-//Local Three - ECPv6.15.12.2//NONSGML v1.0//EN
CALSCALE:GREGORIAN
METHOD:PUBLISH
X-WR-CALNAME:Local Three
X-ORIGINAL-URL:https://localthree.com
X-WR-CALDESC:Events for Local Three
REFRESH-INTERVAL;VALUE=DURATION:PT1H
X-Robots-Tag:noindex
X-PUBLISHED-TTL:PT1H
BEGIN:VTIMEZONE
TZID:UTC
BEGIN:STANDARD
TZOFFSETFROM:+0000
TZOFFSETTO:+0000
TZNAME:UTC
DTSTART:20230101T000000
END:STANDARD
END:VTIMEZONE
BEGIN:VEVENT
DTSTART;TZID=UTC:20241207T100000
DTEND;TZID=UTC:20241207T150000
DTSTAMP:20260420T065128
CREATED:20241025T231632Z
LAST-MODIFIED:20241202T233057Z
UID:6515-1733565600-1733583600@localthree.com
SUMMARY:Santa Brunch #1 - Saturday\, 12/7
DESCRIPTION:Santa Brunch at Local Three\nJoin Us on Saturday\, December 7 + Saturday\, December 14\n10:00 a.m. – 3:00 p.m.\nWe are so glad to announce that Santa Claus is making his way back to Local Three this holiday season! Once again Drew Wills Photography digital family photos will be complimentary with the purchase of brunch.\nAdults: $54.93 / Children: $27.93 \nBe sure to book fast\, reservations for this special event fill up quickly each year. \nBuffet Menu: \nBreads & Pastries\nCroissants & Pain De Chocolat\nGinger Coffee Cake\nCinnamon Sugar Donut Holes \nSalads\nLocal Winter Citrus: Whipped Labneh\, Arugula\, Pomegranate Molasses\, Pistachio Dukkah\nWinter Chopped Salad: Iceberg\, Apple\, Golden Raisin\, Cranberry\, Aged Cheddar\, Maple Sherry Vinaigrette \nBreakfast Classics\nChocolate Banana Pancakes With Maple Syrup\nSoft Scrambled Eggs\nNueske’s Bacon\nTurkey Sausage\nSmoked Salmon Eggs Benedict: Arugula\, Béarnaise\, English Muffin \nMains\nCrab And Shrimp Cake: Green Tomato Remoulade\nBBQ Shrimp And Grits: BBQ Butter\, Winter Root Vegetables\, White Wine\, Scallion\nNorth Georgia Mountain Trout: Brown Butter\, Caper\, Lemon\nOven Roasted Prime Rib: Au Jus\, Horseradish Cream\nCountry Captain \nSides\nSweet Potato Hash: Roasted Squash\, Spinach\, Pearl Onions\, Peppadews\, Caramelized Honey Vinaigrette\nMac And Cheese: Herbed Breadcrumb\nCrispy Truffled Potatoes: Truffle Aioli\, Caramelized Onion\, Herbs\nBrussels Sprouts: Cider Reduction\, Apples\, Rosemary\, Brown Butter\, Sherry \nDesserts\nChristmas Cookies\nMacaron Tree\nEggnog Panna Cotta\nPeppermint Chocolate Brownies \nCLICK HERE TO MAKE A RESERVATION \nP.S. Our buds over at Muss & Turner’s will also be hosting Santa Brunches on Sunday\, December 8 + Sunday\, December 15. Roshambo will be hosting one Santa Brunch on Sunday\, December 1.
URL:https://localthree.com/event/santa-brunch-1/
LOCATION:Local Three\, 3290 NORTHSIDE PARKWAY\, ATLANTA\, GA\, United States
ATTACH;FMTTYPE=image/png:https://localthree.com/wp-content/uploads/2024/10/Santa-Brunch.png
END:VEVENT
END:VCALENDAR